BEGIN:VCALENDAR
VERSION:2.0
PRODID:-//STEAM Ecosystem BC - ECPv6.15.20//NONSGML v1.0//EN
CALSCALE:GREGORIAN
METHOD:PUBLISH
X-WR-CALNAME:STEAM Ecosystem BC
X-ORIGINAL-URL:https://steamecosystembc.ca
X-WR-CALDESC:Events for STEAM Ecosystem BC
REFRESH-INTERVAL;VALUE=DURATION:PT1H
X-Robots-Tag:noindex
X-PUBLISHED-TTL:PT1H
BEGIN:VTIMEZONE
TZID:UTC
BEGIN:STANDARD
TZOFFSETFROM:+0000
TZOFFSETTO:+0000
TZNAME:UTC
DTSTART:20230101T000000
END:STANDARD
END:VTIMEZONE
BEGIN:VEVENT
DTSTART;TZID=UTC:20241120T120000
DTEND;TZID=UTC:20241120T130000
DTSTAMP:20260420T070429
CREATED:20241115T000417Z
LAST-MODIFIED:20241118T215147Z
UID:679-1732104000-1732107600@steamecosystembc.ca
SUMMARY:STEAM Ecosystem BC - Okanagan  Monthly Meeting
DESCRIPTION:Members of the Okanagan Hub of STEAM Ecosystem BC meet once a month to connect\, collaborate\, and share the STEM happenings in the region.
URL:https://steamecosystembc.ca/event/steam-ecosystem-bc-okanagan-monthly-meeting/
LOCATION:Microsoft TEAMS\, BC\, Canada
ORGANIZER;CN="STEAM Ecosystem BC Okanagan":MAILTO:co@steamecosystembc.ca
END:VEVENT
BEGIN:VEVENT
DTSTART;TZID=UTC:20241113T093000
DTEND;TZID=UTC:20241113T140000
DTSTAMP:20260420T070429
CREATED:20241113T195440Z
LAST-MODIFIED:20241118T204731Z
UID:622-1731490200-1731506400@steamecosystembc.ca
SUMMARY:UBCO STEM Engagement Day
DESCRIPTION:Calling all Grade 3 and 4 (yes\, split 2/3 or 4/5 are welcome\, based on teacher discretion) teachers of SD22\, SD23\, and Private/Independent Schools in the Okanagan Region! Engage your students in a day of hands-on STEM learning. Registration for this event is FULL.
URL:https://steamecosystembc.ca/event/ubco-stem-engagement-day/
LOCATION:UBC Okanagan\, 3287 University Way\, Kelowna\, BC\, V1V 1V7\, Canada
ORGANIZER;CN="UBC Okanagan STEM":MAILTO:wwest.ok@ubc.ca
END:VEVENT
END:VCALENDAR